BEGIN:VCALENDAR
VERSION:2.0
PRODID:-//Amckart - ECPv6.15.20//NONSGML v1.0//EN
CALSCALE:GREGORIAN
METHOD:PUBLISH
X-WR-CALNAME:Amckart
X-ORIGINAL-URL:https://www.amckart.ro
X-WR-CALDESC:Evenimente pentru Amckart
REFRESH-INTERVAL;VALUE=DURATION:PT1H
X-Robots-Tag:noindex
X-PUBLISHED-TTL:PT1H
BEGIN:VTIMEZONE
TZID:UTC
BEGIN:STANDARD
TZOFFSETFROM:+0000
TZOFFSETTO:+0000
TZNAME:UTC
DTSTART:20230101T000000
END:STANDARD
END:VTIMEZONE
BEGIN:VEVENT
DTSTART;TZID=UTC:20241013T080000
DTEND;TZID=UTC:20241013T140000
DTSTAMP:20260421T082011
CREATED:20241013T074212Z
LAST-MODIFIED:20241013T074212Z
UID:1498-1728806400-1728828000@www.amckart.ro
SUMMARY:INCHIS PANA LA 14:00
DESCRIPTION:ANDURANTA SPORTS EVENTS
URL:https://www.amckart.ro/event/inchis-pana-la-1400/
END:VEVENT
END:VCALENDAR