BEGIN:VCALENDAR
VERSION:2.0
PRODID:-//Amckart - ECPv6.15.20//NONSGML v1.0//EN
CALSCALE:GREGORIAN
METHOD:PUBLISH
X-WR-CALNAME:Amckart
X-ORIGINAL-URL:https://www.amckart.ro
X-WR-CALDESC:Evenimente pentru Amckart
REFRESH-INTERVAL;VALUE=DURATION:PT1H
X-Robots-Tag:noindex
X-PUBLISHED-TTL:PT1H
BEGIN:VTIMEZONE
TZID:UTC
BEGIN:STANDARD
TZOFFSETFROM:+0000
TZOFFSETTO:+0000
TZNAME:UTC
DTSTART:20230101T000000
END:STANDARD
END:VTIMEZONE
BEGIN:VEVENT
DTSTART;TZID=UTC:20240927T080000
DTEND;TZID=UTC:20240929T173000
DTSTAMP:20260423T160736
CREATED:20240926T075651Z
LAST-MODIFIED:20240926T075651Z
UID:1493-1727424000-1727631000@www.amckart.ro
SUMMARY:INCHIS
DESCRIPTION:📢 AMCKART găzduiește în acest weekend Etapa 6 a Campionatului National de Karting-FRK cu următorul program: \n  \n– Vineri (27 Septembrie) 08:00-17:30 antrenamente oficiale\, \n  \n– Sâmbătă (28 Septembrie) 08:00-17:30 antrenamente și calificări\, \n  \n– Duminică (29 Septembrie) 08:00-17:30 cursele finale! \n  \nLe urăm succes tuturor participanțiilor! 🏆 \n  \nPentru sesiunile de karting va așteptăm Vineri\, Sambata și Duminică după orele 17:30. \n  \nPentru mai multe informații nu ezitați să ne contactați 📞 0741.100.700.
URL:https://www.amckart.ro/event/inchis-9/
END:VEVENT
END:VCALENDAR