BEGIN:VCALENDAR
VERSION:2.0
PRODID:-//Amckart - ECPv6.15.20//NONSGML v1.0//EN
CALSCALE:GREGORIAN
METHOD:PUBLISH
X-ORIGINAL-URL:https://www.amckart.ro
X-WR-CALDESC:Evenimente pentru Amckart
REFRESH-INTERVAL;VALUE=DURATION:PT1H
X-Robots-Tag:noindex
X-PUBLISHED-TTL:PT1H
BEGIN:VTIMEZONE
TZID:UTC
BEGIN:STANDARD
TZOFFSETFROM:+0000
TZOFFSETTO:+0000
TZNAME:UTC
DTSTART:20230101T000000
END:STANDARD
END:VTIMEZONE
BEGIN:VEVENT
DTSTART;TZID=UTC:20240926T080000
DTEND;TZID=UTC:20240926T170000
DTSTAMP:20260423T190730
CREATED:20240926T084005Z
LAST-MODIFIED:20240926T084005Z
UID:1495-1727337600-1727370000@www.amckart.ro
SUMMARY:INCHIS AZI PANA LA ORA 17:00
DESCRIPTION:!!!INCHSI  AZI 26.09.2024 PANA LA ORA 17:00!!!
URL:https://www.amckart.ro/event/inchis-azi-pana-la-ora-1700/
END:VEVENT
END:VCALENDAR