BEGIN:VCALENDAR
VERSION:2.0
PRODID:-//Amckart - ECPv6.15.20//NONSGML v1.0//EN
CALSCALE:GREGORIAN
METHOD:PUBLISH
X-ORIGINAL-URL:https://www.amckart.ro
X-WR-CALDESC:Evenimente pentru Amckart
REFRESH-INTERVAL;VALUE=DURATION:PT1H
X-Robots-Tag:noindex
X-PUBLISHED-TTL:PT1H
BEGIN:VTIMEZONE
TZID:UTC
BEGIN:STANDARD
TZOFFSETFROM:+0000
TZOFFSETTO:+0000
TZNAME:UTC
DTSTART:20230101T000000
END:STANDARD
END:VTIMEZONE
BEGIN:VEVENT
DTSTART;TZID=UTC:20240920T080000
DTEND;TZID=UTC:20240923T150000
DTSTAMP:20260423T232349
CREATED:20240919T105900Z
LAST-MODIFIED:20240919T105900Z
UID:1491-1726819200-1727103600@www.amckart.ro
SUMMARY:INCHIS
DESCRIPTION:📢 AMCKART găzduiește în acest weekend Etapa 6 a ROMANIAN KARTING MASTERS cu următorul program: \n  \n– Vineri (20 Septembrie) 08:00-17:00 antrenamente oficiale\, \n  \n– Sâmbătă (21 Septembrie) 08:00-17:00 antrenamente și calificări\, \n  \n– Duminică (22 Septembrie) 08:00-15:00 cursele finale! \n  \nLe urăm succes tuturor participanțiilor! 🏆 \n  \nPentru sesiunile de karting va așteptăm Vineri si Sambata după orele 17:00\, și Duminică după ora 15:00. \n  \nPentru mai multe informații nu ezitați să ne contactați 📞 0741.100.700.
URL:https://www.amckart.ro/event/inchis-8/
END:VEVENT
END:VCALENDAR